BEGIN:VCALENDAR
VERSION:2.0
PRODID:-//PRIMA Québec - ECPv6.15.17.1//NONSGML v1.0//EN
CALSCALE:GREGORIAN
METHOD:PUBLISH
X-WR-CALNAME:PRIMA Québec
X-ORIGINAL-URL:https://demo.prima.ca
X-WR-CALDESC:Évènements pour PRIMA Québec
REFRESH-INTERVAL;VALUE=DURATION:PT1H
X-Robots-Tag:noindex
X-PUBLISHED-TTL:PT1H
BEGIN:VTIMEZONE
TZID:America/Toronto
BEGIN:DAYLIGHT
TZOFFSETFROM:-0500
TZOFFSETTO:-0400
TZNAME:EDT
DTSTART:20250309T070000
END:DAYLIGHT
BEGIN:STANDARD
TZOFFSETFROM:-0400
TZOFFSETTO:-0500
TZNAME:EST
DTSTART:20251102T060000
END:STANDARD
BEGIN:DAYLIGHT
TZOFFSETFROM:-0500
TZOFFSETTO:-0400
TZNAME:EDT
DTSTART:20260308T070000
END:DAYLIGHT
BEGIN:STANDARD
TZOFFSETFROM:-0400
TZOFFSETTO:-0500
TZNAME:EST
DTSTART:20261101T060000
END:STANDARD
BEGIN:DAYLIGHT
TZOFFSETFROM:-0500
TZOFFSETTO:-0400
TZNAME:EDT
DTSTART:20270314T070000
END:DAYLIGHT
BEGIN:STANDARD
TZOFFSETFROM:-0400
TZOFFSETTO:-0500
TZNAME:EST
DTSTART:20271107T060000
END:STANDARD
END:VTIMEZONE
BEGIN:VEVENT
DTSTART;VALUE=DATE:20260202
DTEND;VALUE=DATE:20260205
DTSTAMP:20260425T070603
CREATED:20260109T204140Z
LAST-MODIFIED:20260109T204255Z
UID:13954-1769990400-1770249599@demo.prima.ca
SUMMARY:HLF - High Level Forum
DESCRIPTION:Nous sommes ravis d’accueillir le Sommet 2026 du High Level Forum (HLF) à Grenoble\, l’un des principaux écosystèmes européens de recherche et d’innovation\, du 2 au 5 février. Depuis de nombreuses années\, le HLF est un réseau unique qui favorise les relations de confiance à long terme\, dont le point culminant est le sommet annuel du HLF. Ce sommet constitue une plateforme unique de collaboration et d’échange d’idées\, dont l’objectif est de favoriser les partenariats\, de stimuler les progrès futurs et de libérer le potentiel des écosystèmes d’innovation à travers le monde. \nLe thème principal de cette année\, « De la recherche à la réalité\, innover dans un monde en pleine mutation »\, promet de susciter des discussions très intéressantes entre les représentants des écosystèmes partenaires tels que Stanford\, Lund\, Tsukuba\, Hsinchu\, Milan\, Montréal… \nNous avons déjà évoqué l’incertitude. Aujourd’hui\, nous commençons à faire face à l’inconnu. Notre monde n’est pas seulement marqué par des changements rapides\, mais aussi par l’effondrement des anciennes certitudes. Perturbations climatiques\, avancées technologiques\, instabilité géopolitique\, identités changeantes : le sol sous nos pieds bouge et les cartes sur lesquelles nous nous appuyions ne sont peut-être plus valables. Dans ce contexte\, la recherche et l’innovation ne sont pas un luxe. Elles sont une nécessité. Mais pas seulement en matière d’outils ou de technologies : nous avons besoin de percées dans la pensée\, la gouvernance\, les relations\, les valeurs\, afin de construire un avenir plus souhaitable. \nCe sommet annuel du HLF réunira des esprits curieux\, des penseurs audacieux et des acteurs du changement passionnés issus de tous les domaines : technologie\, science\, éducation\, design\, politique\, etc. Que vous soyez un chercheur repoussant les limites\, une entreprise privée réinventant la fourniture de produits et de services\, ou un décideur politique servant l’intérêt public et relevant les défis sociétaux\, votre voix compte. La mission du HLF est de favoriser un dialogue constructif\, de susciter la collaboration et d’accélérer la découverte et l’application d’idées novatrices qui répondent aux plus grands défis de notre monde. \nL’édition 2020 du High Level Forum se tiendra parallèlement au Tech&Fest\, le premier événement dédié à la technologie et à l’innovation à Grenoble. Cet alignement stratégique reflète notre ambition de renforcer le dialogue entre prospective et innovation\, et d’élargir l’impact des deux événements à l’échelle mondiale. \nAu programme de ce sommet annuel : des débats approfondis\, des récits inspirants et des idées concrètes. Partagez votre dernier projet. Posez des questions. Explorez les perspectives d’avenir. Apprenez de ceux qui naviguent dans l’incertitude avec créativité et courage. \nL’innovation se nourrit des interactions\, et un avenir souhaitable ne peut être créé qu’ensemble. \nInformations
URL:https://demo.prima.ca/evenement/hlf-high-level-forum/
LOCATION:Grenoble\, Grenoble\, France
ATTACH;FMTTYPE=image/jpeg:https://demo.prima.ca/wp-content/uploads/2026/01/hlf-1.jpg
END:VEVENT
BEGIN:VEVENT
DTSTART;VALUE=DATE:20260203
DTEND;VALUE=DATE:20260206
DTSTAMP:20260425T070603
CREATED:20260115T134558Z
LAST-MODIFIED:20260115T134558Z
UID:14038-1770076800-1770335999@demo.prima.ca
SUMMARY:énergiQ : Inspirer le futur de notre transition énergétique 2026
DESCRIPTION:Plus que des conférences – des moments d’échanges stratégiques\nDu 3 au 5 février\, la communauté de l’innovation et de la transition énergétique se réunira à l’espace Paddock du Parc Jean-Drapeau pour trois jours d’idées\, d’échanges et d’actions concrètes. \nLes experts du monde des affaires\, de l’énergie\, de la recherche et de la sphère politique se rassembleront pour discuter de sujets d’actualité\, notamment lors de conférences et panels sur les thématiques de : \n\nInnovation – Innover pour la résilience énergétique\nIA – L’IA à grande échelle : soutenable énergétiquement?\nChaine de valeur mondiale – Dans un contexte de tension des marchés : comment structurer une chaîne de valeur solide et mondialisée?\nDéfense – Énergie : sécuriser une ressource hautement stratégique\n\nConférences et panels sur des enjeux stratégiques\, ateliers interactifs\, espaces et activités de réseautage vous attendent pour connecter idées\, technologies et talents qui propulseront la transition. \nInformations\nInscription
URL:https://demo.prima.ca/evenement/energiq-inspirer-le-futur-de-notre-transition-energetique-2026/
LOCATION:Paddock Parc Jean-Drapeau\, 200 Circuit Gilles Villeneuve\, Montréal\, Québec\, H3C 1A9\, Canada
ATTACH;FMTTYPE=image/png:https://demo.prima.ca/wp-content/uploads/2026/01/energiq-2026.png
END:VEVENT
BEGIN:VEVENT
DTSTART;TZID=America/Toronto:20260212T080000
DTEND;TZID=America/Toronto:20260212T100000
DTSTAMP:20260425T070603
CREATED:20251211T202820Z
LAST-MODIFIED:20260120T143217Z
UID:13879-1770883200-1770890400@demo.prima.ca
SUMMARY:Formation transition verte : Où en sont les PME et comment franchir un pas de plus ? - Secteur Secondaire
DESCRIPTION:Le 12 février\, participez à une formation interactive pour évaluer la maturité climatique de votre organisation et identifier les leviers concrets pour agir. \n\n\nLa formation sera animée par Anne-Josée Laquerre et Rachel Lefrancois\, expertes en transformation climatique. \nAu programme : bases essentielles\, état de la situation au Québec\, opportunités à saisir et leviers de transformation. \n\nGratuit pour les membres de PRIMA Québec\n25 $ pour les non-membres\n\nInscription
URL:https://demo.prima.ca/evenement/formation-transition-verte-ou-en-sont-les-pme-et-comment-franchir-un-pas-de-plus-secteur-secondaire/
ATTACH;FMTTYPE=image/png:https://demo.prima.ca/wp-content/uploads/2025/12/QnP-1.png
END:VEVENT
BEGIN:VEVENT
DTSTART;VALUE=DATE:20260216
DTEND;VALUE=DATE:20260217
DTSTAMP:20260425T070603
CREATED:20251128T204839Z
LAST-MODIFIED:20251128T205032Z
UID:13768-1771200000-1771286399@demo.prima.ca
SUMMARY:Vekta 2026
DESCRIPTION:Transports zéro émission : innover pour un avenir plus sûr et durable\n\nLe 16 février 2026\, Propulsion Québec tiendra VEKTA 2026\, un événement majeur dédié à l’intelligence véhiculaire et à l’innovation dans les transports terrestres zéro émission. Cette journée de conférences et de panels rassemblera l’écosystème autour d’un dialogue stratégique\, un conférencier principal ainsi que trois panels stratégiques portant sur l’innovation\, l’intelligence véhiculaire\, les minéraux critiques stratégiques et la défense. \nAvec VEKTA\, Propulsion Québec souhaite stimuler la collaboration entre les décideurs du secteur des transports\, favoriser le maillage industriel et accélérer l’adoption de technologies zéro émission au service de la transition énergétique. \nInformations\nInscription
URL:https://demo.prima.ca/evenement/vekta-2026/
LOCATION:Le Salon Richmond\, 550 rue Richmond\, Montréal\, QC\, H3J 2R9
ATTACH;FMTTYPE=image/jpeg:https://demo.prima.ca/wp-content/uploads/2025/11/VEKTA-2026-1.jpg
END:VEVENT
BEGIN:VEVENT
DTSTART;VALUE=DATE:20260216
DTEND;VALUE=DATE:20260218
DTSTAMP:20260425T070603
CREATED:20251215T181631Z
LAST-MODIFIED:20251215T181927Z
UID:13884-1771200000-1771372799@demo.prima.ca
SUMMARY:Nordicité et enjeux hivernaux en aérospatiale
DESCRIPTION:Nordicité est ravis de vous accueillir pour une exploration captivante des dernières innovations\, techniques et meilleures pratiques liées aux opérations aérospatiales en milieu nordique. Pendant deux jours\, chercheurs\, experts industriels\, pilotes et passionnés se réuniront pour partager leurs idées\, leurs expériences et leurs solutions face aux défis hivernaux. Joignez vous à eux pour un événement riche en découvertes\, en échanges et en collaborations. \nInformations\nInscription
URL:https://demo.prima.ca/evenement/nordicite-et-enjeux-hivernaux-en-aerospatiale/
LOCATION:Maison des étudiants ÉTS\, 1220 rue Notre-Dame Ouest\, Montréal\, QC\, H3C 1K6
ATTACH;FMTTYPE=image/png:https://demo.prima.ca/wp-content/uploads/2025/12/ets-nordicite-enjeux-hivernaux-aerospatiale-1.png
END:VEVENT
BEGIN:VEVENT
DTSTART;TZID=America/Toronto:20260219T130000
DTEND;TZID=America/Toronto:20260219T170000
DTSTAMP:20260425T070603
CREATED:20260114T194136Z
LAST-MODIFIED:20260114T194136Z
UID:14026-1771506000-1771520400@demo.prima.ca
SUMMARY:Tr@ns Num 2026 : la transformation numérique à l’heure de l’anticipation
DESCRIPTION:Comment anticipez vous votre virage numérique ?\nLe rendez-vous incontournable des leaders du numérique et de l’innovation au Québec \nTrans Num 2026\, c’est une demi-journée inspirante\, concrète et stratégique\, suivie du cocktail réseautage annuel de l’ADRIQ\, qui réunit les acteurs clés de l’écosystème québécois. \nParce qu’innover aujourd’hui\, c’est aussi savoir anticiper\, Trans Num 2026 vous invite à passer de l’inspiration à l’action\, en développant votre capacité à prévoir les tendances\, les risques et les opportunités du monde numérique. \n\nUne conférence de renom à ne pas manquer\nL’IA comme vous ne l’avez jamais vue \nUne conférence inspirante qui propose un regard inédit sur l’intelligence artificielle\, ses impacts concrets et les bouleversements à venir pour les organisations et la société. \nProspectiviste en intelligence artificielle\, Flavien Chervet explore depuis plus de 10 ans les impacts technologiques\, humains et stratégiques de l’IA. Entrepreneur\, conférencier et auteur de plusieurs ouvrages de référence\, il accompagne dirigeants et institutions dans la réflexion et le déploiement de stratégies IA responsables et porteuses de sens. \n\nAu programme : inspiration\, anticipation et action\n\nTémoignages éclair de PME : des entreprises accompagnées avec le programme Trans Num partagent\, en format court et percutant\, leurs projets\, défis\, gains concrets et prochaines étapes.\nRADAR – Veille stratégique sur l’avenir du numérique : signaux faibles\, tendances émergentes (IA générative\, cybersécurité\, données\, productivité\, durabilité numérique) et leurs impacts pour les entreprises québécoises.\nPanel d’experts – IA et PME : Quelles conditions de succès pour transformer l’adoption responsable en levier de croissance : un panel à forte valeur ajoutée réunissant des experts reconnus aux perspectives complémentaires pour approfondir les enjeux soulevés par la veille stratégique et outiller concrètement les PME dans leur adoption responsable de l’IA.\nCocktail réseautage annuel de l’ADRIQ : une occasion privilégiée de connecter avec les PME\, les accompagnateurs\, les acteurs de la recherche\, de l’innovation et du numérique.\n\n\nPourquoi participer ?\n\nS’inspirer d’entreprises qui ont amorcé\, accéléré ou consolidé leur transformation numérique\, et repartir avec des idées concrètes applicables à votre organisation.\nDévelopper une culture d’anticipation\, en comprenant mieux les tendances\, les risques et les opportunités technologiques\, économiques et humaines à venir.\nDécouvrir des bonnes pratiques éprouvées et des outils numériques issus d’expériences terrain et de parcours d’accompagnement réussis.\nMettre en lumière des entreprises accompagnées\, notamment en lien avec des finalistes et lauréats du Gala des Prix Innovation\, et s’inspirer de leurs trajectoires.\nCréer des liens et du maillage entre les PME\, les accompagnateurs et les acteurs de la recherche\, de l’innovation et du numérique.\n\nInformations\nInscription
URL:https://demo.prima.ca/evenement/trns-num-2026-la-transformation-numerique-a-lheure-de-lanticipation/
LOCATION:Espace Ax-C\, 800 rue du Square-Victoria\, Montréal\, QC\, H3C 0B4
ATTACH;FMTTYPE=image/jpeg:https://demo.prima.ca/wp-content/uploads/2026/01/TRANS-NUM-2026.jpg
END:VEVENT
BEGIN:VEVENT
DTSTART;VALUE=DATE:20260220
DTEND;VALUE=DATE:20260221
DTSTAMP:20260425T070603
CREATED:20260105T155251Z
LAST-MODIFIED:20260105T155251Z
UID:13903-1771545600-1771631999@demo.prima.ca
SUMMARY:DEL - Défense : saisir les opportunités d’un marché stratégique
DESCRIPTION:La défense\, source d’investissements importants\nLe Canada intensifie ses investissements dans la modernisation des forces armées\, la cybersécurité et la résilience des chaînes d’approvisionnement\, créant des opportunités stratégiques pour les entreprises locales. DEL vous convie à un événement exclusif afin de découvrir comment vous positionner dans ce marché stratégique en pleine croissance. \nL’événement inclut plusieurs périodes de réseautage\, dont le dîner\, ainsi que des conférences et des panels d’experts abordant des thématiques telles que : \n\nles besoins immédiats et les perspectives du gouvernement canadien ainsi que des donneurs d’ordres\nse préparer aux appels d’offres et comprendre le processus d’achat du gouvernement\ncertifications et démarches réglementaires\ntémoignages d’entreprises impliquées dans le secteur de la défense\ndémystifier les rôles des agences gouvernementales fédérales\n\nÀ qui s’adresse cet événement ?  \nSpécialement aux entreprises manufacturières et organisations reliées (institutions d’enseignement\, centres de recherche\, regroupement d’entreprises\, etc.). \nInformations\nInscription
URL:https://demo.prima.ca/evenement/del-defense-saisir-les-opportunites-dun-marche-strategique/
LOCATION:Garnison St-Hubert\, 4820 rue Leckie - Édifice M-196\, Saint-Hubert\, Québec\, J3Z 1H4
ATTACH;FMTTYPE=image/jpeg:https://demo.prima.ca/wp-content/uploads/2026/01/DEFENSE-DEL.jpg
END:VEVENT
BEGIN:VEVENT
DTSTART;VALUE=DATE:20260226
DTEND;VALUE=DATE:20260227
DTSTAMP:20260425T070603
CREATED:20260114T195141Z
LAST-MODIFIED:20260114T195512Z
UID:14031-1772064000-1772150399@demo.prima.ca
SUMMARY:Horizon Innovation Québec 2026
DESCRIPTION:Événement incontournable présentant une programmation riche et diversifiée\, couvrant des thématiques porteuses. Des visionnaires se réuniront pour entendre les acteurs clés du milieu. Cet événement se veut un partage collaboratif de connaissances\, réseautage et valorisation de solutions novatrices. \n\nUne programmation complète\, unique et diversifiée\n\n\n\n\nHorizon Innovation Québec est un événement incontournable présentant une programmation riche et diversifiée\, couvrant des thématiques clés telles que l’intelligence artificielle\, la résilience climatique et la productivité organisationnelle. Plus de 200 visionnaires de la région se réuniront pour entendre les acteurs clés du milieu. \n\n\nThématiques\n\n\n\n\n\n\n\nPar le biais de conférences inspirantes\, de pitchs présentant des solutions innovantes et de réseautage B2B\, l’événement abordera les thématiques suivantes : \n\nCulture organisationnelle et productivité\nIntelligence artificielle\nPerformance énergétique\nL’innovation au service de la résilience climatique\nModèles d’affaires novateurs\nFinancement de l’innovation par la recherche\n\n\n\n\n\n\nÀ qui s’adresse l’événement?\n\n\n\n\n\n\n\nHorizon Innovation Québec vise à rassembler les réseaux d’affaires\, la R-D industrielle\, l’administration publique et les professionnels de l’innovation. \nPlus précisément l’événement réunira : \n\nPME\, notamment des secteurs manufacturiers\, forestiers\, métallurgiques\, alimentaires et de la santé\nStart-ups oeuvrant dans le numérique\, les technologies propres et agricoles\nEntreprises manufacturières\nIndustries lourdes (mines et cimenteries)\nOrganismes de soutien\, tels que les centres de recherche\nOrganismes publics de financements.\n\n\n\n\nInformations\nInscription
URL:https://demo.prima.ca/evenement/horizon-innovation-quebec-2026/
LOCATION:Hôtel Plaza Québec\, 3031 boul Laurier\, Québec\, QC\, G1V 2M2
ATTACH;FMTTYPE=image/jpeg:https://demo.prima.ca/wp-content/uploads/2026/01/HORIZON-INNOVATION-QUEBEC-2026.jpg
END:VEVENT
END:VCALENDAR