BEGIN:VCALENDAR
VERSION:2.0
PRODID:-//PRIMA Québec - ECPv6.15.17.1//NONSGML v1.0//EN
CALSCALE:GREGORIAN
METHOD:PUBLISH
X-ORIGINAL-URL:https://demo.prima.ca
X-WR-CALDESC:Évènements pour PRIMA Québec
REFRESH-INTERVAL;VALUE=DURATION:PT1H
X-Robots-Tag:noindex
X-PUBLISHED-TTL:PT1H
BEGIN:VTIMEZONE
TZID:America/Toronto
BEGIN:DAYLIGHT
TZOFFSETFROM:-0500
TZOFFSETTO:-0400
TZNAME:EDT
DTSTART:20250309T070000
END:DAYLIGHT
BEGIN:STANDARD
TZOFFSETFROM:-0400
TZOFFSETTO:-0500
TZNAME:EST
DTSTART:20251102T060000
END:STANDARD
BEGIN:DAYLIGHT
TZOFFSETFROM:-0500
TZOFFSETTO:-0400
TZNAME:EDT
DTSTART:20260308T070000
END:DAYLIGHT
BEGIN:STANDARD
TZOFFSETFROM:-0400
TZOFFSETTO:-0500
TZNAME:EST
DTSTART:20261101T060000
END:STANDARD
BEGIN:DAYLIGHT
TZOFFSETFROM:-0500
TZOFFSETTO:-0400
TZNAME:EDT
DTSTART:20270314T070000
END:DAYLIGHT
BEGIN:STANDARD
TZOFFSETFROM:-0400
TZOFFSETTO:-0500
TZNAME:EST
DTSTART:20271107T060000
END:STANDARD
END:VTIMEZONE
BEGIN:VEVENT
DTSTART;VALUE=DATE:20260504
DTEND;VALUE=DATE:20260505
DTSTAMP:20260423T063024
CREATED:20260120T183525Z
LAST-MODIFIED:20260120T183525Z
UID:14060-1777852800-1777939199@demo.prima.ca
SUMMARY:37e Canadian Materials Science Conference (CMSC)
DESCRIPTION:L’Université Laval accueillera au printemps prochain la 37e Canadian Materials Science Conference (CMSC)\, présidée par le professeur Carl Blais\, du Département de génie des mines\, des matériaux et de la métallurgie. \nCette conférence\, organisée sous l’égide de l’ICM (Institut canadien des mines\, de la métallurgie et du pétrole)\, a pour objectif de fournir une plateforme privilégiée pour la diffusion des résultats de la recherche académique en sciences des matériaux\, et met l’accent sur les contributions étudiantes. Cette année\, la conférence comprendra un symposium sur les matériaux pour la fabrication additive. \nCette année\, la conférence comprendra 8 symposiums : \n\nMaterials for Additive Manufacturing\nLight Metals: Development\, Production\, and Processing\nMaterials for Health Applications\nDigital Design and Artificial Intelligence Applied to Materials Science\nMaterials for Clean and Renewable Energy: Production\, Storage\, and Utilization\nNovel\, Advanced\, and Functionalized Materials\nSurface Engineering\, Functional Coatings\, and Interfacial Phenomena\nSustainability and Circular Economy\n\nVous pouvez soumettre votre résumé dès maintenant pour une présentation ou une affiche. La date limite est le 4 février 2026. \nDes prix seront distribués aux meilleures présentations et aux meilleures affiches. \nInformations
URL:https://demo.prima.ca/evenement/37e-canadian-materials-science-conference-cmsc/
LOCATION:Université Laval\, 2325 rue de l'Université\, Québec\, QC\, G1V 0B4
ATTACH;FMTTYPE=image/jpeg:https://demo.prima.ca/wp-content/uploads/2026/01/CMSC-2026.jpg
END:VEVENT
BEGIN:VEVENT
DTSTART;VALUE=DATE:20260527
DTEND;VALUE=DATE:20260528
DTSTAMP:20260423T063024
CREATED:20251201T141136Z
LAST-MODIFIED:20251201T141136Z
UID:13776-1779840000-1779926399@demo.prima.ca
SUMMARY:Colloque Bois-Polymères
DESCRIPTION:Description\n\n\n\n\nLe colloque bois polymères est un événement spécialisé qui s’adresse particulièrement aux entreprises québécoises de l’industrie forestière et de l’industrie de la plasturgie (plastiques et matériaux composites). L’événement vise à susciter le développement d’innovation et de nouvelles opportunités d’affaires en combinant les forces de ces deux industries. En outre\, plusieurs autres secteurs d’activités pertinents au sujet seront invités à participer. \n🎯 Public cible : \nEntreprises manufacturières\, centres de recherche\, donneurs d’ordres\, fournisseurs\, institutions d’enseignement et experts du développement économique. \n🌟 Moment fort : \nPrésentation des résultats de l’étude de faisabilité technico-économique « Transition écologique dans l’industrie des polymères grâce à la valorisation de coproduits forestiers ». \n\n\n\n\nAppel à conférenciers\n\n\n\n\nVous avez un projet novateur à la croisée des industries forestière et des polymères? Partagez-le avec un public ciblé à la recherche de nouvelles idées et d’occasions concrètes! \nL’édition 2026 du Colloque Bois-Polymères rassemblera les acteurs de l’innovation issus de la plasturgie\, de la filière forestière ainsi que des secteurs connexes afin de catalyser des projets porteurs alliant performance industrielle et transition écologique. L’événement mettra en lumière des solutions concrètes pour développer des matériaux hybrides\, valoriser les coproduits forestiers\, et ouvrir de nouveaux marchés. \n🔎 Ce que nous recherchons : \n\nÉtudes de cas sur l’intégration de matières lignocellulosiques ou de coproduits forestiers dans des applications des filières des plastiques et des matériaux composites;\nProjets industriels\, produits ou procédés en développement ou récemment commercialisés ;\nApproches R&D\, initiatives collaboratives ou stratégies d’innovation ouverte ;\nPistes de réflexion sur la circularité\, l’écoconception ou la substitution de matières ;\nConférences prospectives sur les tendances\, occasions de marchés\, enjeux réglementaires ou chaînes de valeur émergentes.\n\n📬 Soumettez votre proposition avant le 19 décembre à 17h en cliquant ici. \n\nInformations
URL:https://demo.prima.ca/evenement/colloque-bois-polymeres-2/
LOCATION:Le Château Royal\, 3500 boul du Souvenir\, Laval\, QC\, H7V 1X2
ATTACH;FMTTYPE=image/jpeg:https://demo.prima.ca/wp-content/uploads/2025/12/Bois-polymeres.jpg
END:VEVENT
END:VCALENDAR