BEGIN:VCALENDAR
VERSION:2.0
PRODID:-//PRIMA Québec - ECPv6.15.17.1//NONSGML v1.0//EN
CALSCALE:GREGORIAN
METHOD:PUBLISH
X-ORIGINAL-URL:https://demo.prima.ca
X-WR-CALDESC:Évènements pour PRIMA Québec
REFRESH-INTERVAL;VALUE=DURATION:PT1H
X-Robots-Tag:noindex
X-PUBLISHED-TTL:PT1H
BEGIN:VTIMEZONE
TZID:America/Toronto
BEGIN:DAYLIGHT
TZOFFSETFROM:-0500
TZOFFSETTO:-0400
TZNAME:EDT
DTSTART:20250309T070000
END:DAYLIGHT
BEGIN:STANDARD
TZOFFSETFROM:-0400
TZOFFSETTO:-0500
TZNAME:EST
DTSTART:20251102T060000
END:STANDARD
BEGIN:DAYLIGHT
TZOFFSETFROM:-0500
TZOFFSETTO:-0400
TZNAME:EDT
DTSTART:20260308T070000
END:DAYLIGHT
BEGIN:STANDARD
TZOFFSETFROM:-0400
TZOFFSETTO:-0500
TZNAME:EST
DTSTART:20261101T060000
END:STANDARD
BEGIN:DAYLIGHT
TZOFFSETFROM:-0500
TZOFFSETTO:-0400
TZNAME:EDT
DTSTART:20270314T070000
END:DAYLIGHT
BEGIN:STANDARD
TZOFFSETFROM:-0400
TZOFFSETTO:-0500
TZNAME:EST
DTSTART:20271107T060000
END:STANDARD
END:VTIMEZONE
BEGIN:VEVENT
DTSTART;VALUE=DATE:20260608
DTEND;VALUE=DATE:20260610
DTSTAMP:20260424T074220
CREATED:20260216T133237Z
LAST-MODIFIED:20260216T133237Z
UID:14319-1780876800-1781049599@demo.prima.ca
SUMMARY:Festival des Prix Solutions Climatiques 2026
DESCRIPTION:Le Festival des Prix Solutions Climatiques n’est pas seulement un événement\, c’est un tremplin.\nDeux jours pendant lesquels des visionnaires\, des investisseurs et des innovateurs se rencontrent pour faire émerger des idées audacieuses\, forger des partenariats et accélérer la mise en œuvre des solutions dont notre monde a urgemment besoin.\n\n•  Rencontrez les acteurs du changement – Entrez en contact avec des fondateurs\, des investisseurs et des leaders qui ont un impact réel sur le climat. \n•  Découvrez les prochaines étapes – Soyez les premiers à découvrir les technologies révolutionnaires qui façonnent l’énergie\, l’alimentation\, l’eau et les villes. \n•  Concluez des accords importants : des projets pilotes aux investissements\, repartez avec des partenariats qui accélèrent la mise en œuvre de solutions. \n•  Rejoignez une scène mondiale : le Climate Solutions Prize Festival rassemble des innovateurs de tout le Canada\, des États-Unis et du Moyen-Orient. Votre réseau s’internationalise. \n•  Célébrez l’impact : le remise des prix rend hommage à ceux qui transforment des idées audacieuses en victoires mesurables pour le climat. \nCe n’est pas une conférence comme les autres. C’est là que l’élan devient mouvement.\n\nInformations\nInscription
URL:https://demo.prima.ca/evenement/festival-des-prix-solutions-climatiques-2026/
LOCATION:Marché Bonsecours\, 305 rue de la commune Est\, Montréal\, QC\, H2Y 1H2
ATTACH;FMTTYPE=image/jpeg:https://demo.prima.ca/wp-content/uploads/2026/02/CLIMATIQUE.jpg
END:VEVENT
BEGIN:VEVENT
DTSTART;VALUE=DATE:20260622
DTEND;VALUE=DATE:20260624
DTSTAMP:20260424T074220
CREATED:20260211T151058Z
LAST-MODIFIED:20260211T151058Z
UID:14240-1782086400-1782259199@demo.prima.ca
SUMMARY:Conference HI-AM
DESCRIPTION:Depuis sa création en 2018\, la conférence HI-AM est un événement académique majeur au Canada\, entièrement consacré à la diffusion des avancées en recherche et développement dans le domaine de la fabrication additive. Cette conférence offre une plateforme précieuse aux chercheurs\, aux professionnels de l’industrie et aux universitaires pour échanger sur les dernières innovations et tendances du secteur. \nInformations
URL:https://demo.prima.ca/evenement/conference-hi-am-2/
LOCATION:Centre des arts et de la créativité de Banff – Centre Kinnear\, 107 Tunnel Mountain Drive\, Banff\, AB\, T1L 1H5
ATTACH;FMTTYPE=image/jpeg:https://demo.prima.ca/wp-content/uploads/2026/02/HI-AM.jpg
END:VEVENT
END:VCALENDAR